BEGIN:VCALENDAR
VERSION:2.0
PRODID:-//Koncept Carma - ECPv5.5.0.1//NONSGML v1.0//EN
CALSCALE:GREGORIAN
METHOD:PUBLISH
X-WR-CALNAME:Koncept Carma
X-ORIGINAL-URL:http://konceptcarma.com
X-WR-CALDESC:Events for Koncept Carma
BEGIN:VTIMEZONE
TZID:UTC
BEGIN:STANDARD
TZOFFSETFROM:+0000
TZOFFSETTO:+0000
TZNAME:UTC
DTSTART:20140101T000000
END:STANDARD
END:VTIMEZONE
BEGIN:VEVENT
DTSTART;TZID=UTC:20140114T170000
DTEND;TZID=UTC:20140114T200000
DTSTAMP:20260424T173504
CREATED:20140107T211922Z
LAST-MODIFIED:20140107T211922Z
UID:284-1389718800-1389729600@konceptcarma.com
SUMMARY:OMEGA Happy Hour
DESCRIPTION:Join OMEGA an Orlando Marketing Group for a Professional Networking Happy Hour.  The event is open to all professionals looking to collaborate with others in business strategies and marketing ideas.
URL:http://konceptcarma.com/event/omega-happy-hour-2/
LOCATION:Ember\, 42 West Central Boulevard \, Orlando \, 32801
END:VEVENT
END:VCALENDAR